BEGIN:VCALENDAR
VERSION:2.0
PRODID:-//Neustadt an der Aisch - ECPv4.6.18//NONSGML v1.0//EN
CALSCALE:GREGORIAN
METHOD:PUBLISH
X-WR-CALNAME:Neustadt an der Aisch
X-ORIGINAL-URL:https://www.csu-neustadtaisch.de
X-WR-CALDESC:Veranstaltungen für Neustadt an der Aisch
BEGIN:VEVENT
DTSTART;TZID=Europe/Berlin:20180602T100000
DTEND;TZID=Europe/Berlin:20180602T130000
DTSTAMP:20180628T010238
CREATED:20170507T083224Z
LAST-MODIFIED:20180220T162724Z
UID:220-1527933600-1527944400@www.csu-neustadtaisch.de
SUMMARY:Kerwafrühschoppen
DESCRIPTION:
URL:https://www.csu-neustadtaisch.de/event/kerwafruehschoppen/
ORGANIZER;CN="CSU%20Neustadt%20an%20der%20Asich":MAILTO:markus.loew@csu-neustadtaisch.de
END:VEVENT
BEGIN:VEVENT
DTSTART;TZID=Europe/Berlin:20180607T180000
DTEND;TZID=Europe/Berlin:20180607T220000
DTSTAMP:20180628T010238
CREATED:20170507T083322Z
LAST-MODIFIED:20180220T163330Z
UID:222-1528394400-1528408800@www.csu-neustadtaisch.de
SUMMARY:Kerwastammtisch
DESCRIPTION:
URL:https://www.csu-neustadtaisch.de/event/kerwastammtisch/
LOCATION:Bei den Sommerkellern 5\, Neustadt an der Aisch\, 91413\, Deutschland
ORGANIZER;CN="CSU%20Neustadt%20an%20der%20Asich":MAILTO:markus.loew@csu-neustadtaisch.de
END:VEVENT
END:VCALENDAR